BEGIN:VCALENDAR
VERSION:2.0
PRODID:-//RCC Academy - ECPv5.6.0//NONSGML v1.0//EN
CALSCALE:GREGORIAN
METHOD:PUBLISH
X-WR-CALNAME:RCC Academy
X-ORIGINAL-URL:https://rcchristianacademy.org
X-WR-CALDESC:Events for RCC Academy
BEGIN:VTIMEZONE
TZID:UTC
BEGIN:STANDARD
TZOFFSETFROM:+0000
TZOFFSETTO:+0000
TZNAME:UTC
DTSTART:20240101T000000
END:STANDARD
END:VTIMEZONE
BEGIN:VEVENT
DTSTART;VALUE=DATE:20240207
DTEND;VALUE=DATE:20240210
DTSTAMP:20260421T102215
CREATED:20230727T201403Z
LAST-MODIFIED:20230727T201403Z
UID:2016-1707264000-1707523199@rcchristianacademy.org
SUMMARY:Black History Oratorical Contests
DESCRIPTION:9:00 a.m.
URL:https://rcchristianacademy.org/event/black-history-oratorical-contests/
END:VEVENT
BEGIN:VEVENT
DTSTART;VALUE=DATE:20240216
DTEND;VALUE=DATE:20240217
DTSTAMP:20260421T102215
CREATED:20230727T201441Z
LAST-MODIFIED:20230727T201441Z
UID:2018-1708041600-1708127999@rcchristianacademy.org
SUMMARY:Progress Reports
DESCRIPTION:
URL:https://rcchristianacademy.org/event/progress-reports-5/
END:VEVENT
BEGIN:VEVENT
DTSTART;VALUE=DATE:20240219
DTEND;VALUE=DATE:20240220
DTSTAMP:20260421T102215
CREATED:20230727T201508Z
LAST-MODIFIED:20230727T201508Z
UID:2020-1708300800-1708387199@rcchristianacademy.org
SUMMARY:President’s Day – NO SCHOOL
DESCRIPTION:
URL:https://rcchristianacademy.org/event/presidents-day-no-school-3/
END:VEVENT
BEGIN:VEVENT
DTSTART;VALUE=DATE:20240223
DTEND;VALUE=DATE:20240224
DTSTAMP:20260421T102215
CREATED:20230727T201538Z
LAST-MODIFIED:20230727T201610Z
UID:2022-1708646400-1708732799@rcchristianacademy.org
SUMMARY:Black History Performing Arts Production
DESCRIPTION:
URL:https://rcchristianacademy.org/event/black-history-performing-arts-production-2/
END:VEVENT
END:VCALENDAR