BEGIN:VCALENDAR
VERSION:2.0
PRODID:-//RCC Academy - ECPv5.6.0//NONSGML v1.0//EN
CALSCALE:GREGORIAN
METHOD:PUBLISH
X-WR-CALNAME:RCC Academy
X-ORIGINAL-URL:https://rcchristianacademy.org
X-WR-CALDESC:Events for RCC Academy
BEGIN:VTIMEZONE
TZID:UTC
BEGIN:STANDARD
TZOFFSETFROM:+0000
TZOFFSETTO:+0000
TZNAME:UTC
DTSTART:20220101T000000
END:STANDARD
END:VTIMEZONE
BEGIN:VEVENT
DTSTART;VALUE=DATE:20220401
DTEND;VALUE=DATE:20220402
DTSTAMP:20260421T121209
CREATED:20210928T160626Z
LAST-MODIFIED:20210928T160626Z
UID:1595-1648771200-1648857599@rcchristianacademy.org
SUMMARY:End of 3rd Quarter
DESCRIPTION:
URL:https://rcchristianacademy.org/event/end-of-3rd-quarter/
END:VEVENT
BEGIN:VEVENT
DTSTART;VALUE=DATE:20220408
DTEND;VALUE=DATE:20220409
DTSTAMP:20260421T121209
CREATED:20210928T160708Z
LAST-MODIFIED:20210928T160708Z
UID:1597-1649376000-1649462399@rcchristianacademy.org
SUMMARY:Parent/Teacher Conferences: Report Cards NO SCHOOL
DESCRIPTION:
URL:https://rcchristianacademy.org/event/parent-teacher-conferences-report-cards-no-school/
END:VEVENT
BEGIN:VEVENT
DTSTART;VALUE=DATE:20220415
DTEND;VALUE=DATE:20220416
DTSTAMP:20260421T121209
CREATED:20210928T160816Z
LAST-MODIFIED:20210928T160816Z
UID:1599-1649980800-1650067199@rcchristianacademy.org
SUMMARY:Good Friday – NO SCHOOL
DESCRIPTION:
URL:https://rcchristianacademy.org/event/good-friday-no-school/
END:VEVENT
BEGIN:VEVENT
DTSTART;VALUE=DATE:20220418
DTEND;VALUE=DATE:20220423
DTSTAMP:20260421T121209
CREATED:20210928T160901Z
LAST-MODIFIED:20210928T160901Z
UID:1601-1650240000-1650671999@rcchristianacademy.org
SUMMARY:Easter Break – NO SCHOOL
DESCRIPTION:
URL:https://rcchristianacademy.org/event/easter-break-no-school/
END:VEVENT
END:VCALENDAR