BEGIN:VCALENDAR
VERSION:2.0
PRODID:-//RCC Academy - ECPv5.6.0//NONSGML v1.0//EN
CALSCALE:GREGORIAN
METHOD:PUBLISH
X-WR-CALNAME:RCC Academy
X-ORIGINAL-URL:https://rcchristianacademy.org
X-WR-CALDESC:Events for RCC Academy
BEGIN:VTIMEZONE
TZID:UTC
BEGIN:STANDARD
TZOFFSETFROM:+0000
TZOFFSETTO:+0000
TZNAME:UTC
DTSTART:20240101T000000
END:STANDARD
END:VTIMEZONE
BEGIN:VEVENT
DTSTART;VALUE=DATE:20241104
DTEND;VALUE=DATE:20241105
DTSTAMP:20260421T102126
CREATED:20240722T170849Z
LAST-MODIFIED:20240722T170849Z
UID:2231-1730678400-1730764799@rcchristianacademy.org
SUMMARY:Parent/Teacher Conferences – NO SCHOOL
DESCRIPTION:Parent/Teacher Conferences – NO SCHOOL \nProfessional Development- REPORT CARDS*
URL:https://rcchristianacademy.org/event/parent-teacher-conferences-no-school-2/
END:VEVENT
END:VCALENDAR