BEGIN:VCALENDAR
VERSION:2.0
PRODID:-//RCC Academy - ECPv5.6.0//NONSGML v1.0//EN
CALSCALE:GREGORIAN
METHOD:PUBLISH
X-WR-CALNAME:RCC Academy
X-ORIGINAL-URL:https://rcchristianacademy.org
X-WR-CALDESC:Events for RCC Academy
BEGIN:VTIMEZONE
TZID:UTC
BEGIN:STANDARD
TZOFFSETFROM:+0000
TZOFFSETTO:+0000
TZNAME:UTC
DTSTART:20240101T000000
END:STANDARD
END:VTIMEZONE
BEGIN:VEVENT
DTSTART;VALUE=DATE:20241030
DTEND;VALUE=DATE:20241031
DTSTAMP:20260421T102127
CREATED:20240722T160802Z
LAST-MODIFIED:20240722T160802Z
UID:2227-1730246400-1730332799@rcchristianacademy.org
SUMMARY:End of 1st Quarter
DESCRIPTION:
URL:https://rcchristianacademy.org/event/end-of-1st-quarter-4/
END:VEVENT
BEGIN:VEVENT
DTSTART;TZID=UTC:20241030T130000
DTEND;TZID=UTC:20241030T145000
DTSTAMP:20260421T102127
CREATED:20240722T160916Z
LAST-MODIFIED:20241028T151350Z
UID:2229-1730293200-1730299800@rcchristianacademy.org
SUMMARY:Awards Assembly
DESCRIPTION:K3-3rd Grades 1:00 p.m.\n4th – 7th Grades 2:00 p.m.
URL:https://rcchristianacademy.org/event/awards-assembly/
END:VEVENT
END:VCALENDAR