BEGIN:VCALENDAR
VERSION:2.0
PRODID:-//RCC Academy - ECPv5.6.0//NONSGML v1.0//EN
CALSCALE:GREGORIAN
METHOD:PUBLISH
X-WR-CALNAME:RCC Academy
X-ORIGINAL-URL:https://rcchristianacademy.org
X-WR-CALDESC:Events for RCC Academy
BEGIN:VTIMEZONE
TZID:UTC
BEGIN:STANDARD
TZOFFSETFROM:+0000
TZOFFSETTO:+0000
TZNAME:UTC
DTSTART:20240101T000000
END:STANDARD
END:VTIMEZONE
BEGIN:VEVENT
DTSTART;VALUE=DATE:20241014
DTEND;VALUE=DATE:20241015
DTSTAMP:20260421T121232
CREATED:20240722T155013Z
LAST-MODIFIED:20240722T155013Z
UID:2223-1728864000-1728950399@rcchristianacademy.org
SUMMARY:Indigenous People’s Day – NO SCHOOL
DESCRIPTION:
URL:https://rcchristianacademy.org/event/indigenous-peoples-day-no-school-2/
END:VEVENT
END:VCALENDAR