BEGIN:VCALENDAR
VERSION:2.0
PRODID:-//RCC Academy - ECPv5.6.0//NONSGML v1.0//EN
CALSCALE:GREGORIAN
METHOD:PUBLISH
X-WR-CALNAME:RCC Academy
X-ORIGINAL-URL:https://rcchristianacademy.org
X-WR-CALDESC:Events for RCC Academy
BEGIN:VTIMEZONE
TZID:UTC
BEGIN:STANDARD
TZOFFSETFROM:+0000
TZOFFSETTO:+0000
TZNAME:UTC
DTSTART:20240101T000000
END:STANDARD
END:VTIMEZONE
BEGIN:VEVENT
DTSTART;TZID=UTC:20241007T083000
DTEND;TZID=UTC:20241007T091500
DTSTAMP:20260421T115923
CREATED:20240722T154919Z
LAST-MODIFIED:20240722T154919Z
UID:2219-1728289800-1728292500@rcchristianacademy.org
SUMMARY:Doughnuts for Dads: K3-K5 8:30 a.m.-9:15 a.m.
DESCRIPTION:
URL:https://rcchristianacademy.org/event/doughnuts-for-dads-k3-k5-830-a-m-915-a-m/
END:VEVENT
END:VCALENDAR