BEGIN:VCALENDAR
VERSION:2.0
PRODID:-//RCC Academy - ECPv5.6.0//NONSGML v1.0//EN
CALSCALE:GREGORIAN
METHOD:PUBLISH
X-WR-CALNAME:RCC Academy
X-ORIGINAL-URL:https://rcchristianacademy.org
X-WR-CALDESC:Events for RCC Academy
BEGIN:VTIMEZONE
TZID:UTC
BEGIN:STANDARD
TZOFFSETFROM:+0000
TZOFFSETTO:+0000
TZNAME:UTC
DTSTART:20240101T000000
END:STANDARD
END:VTIMEZONE
BEGIN:VEVENT
DTSTART;TZID=UTC:20240925T083000
DTEND;TZID=UTC:20240925T130000
DTSTAMP:20260421T130029
CREATED:20240722T154650Z
LAST-MODIFIED:20240722T154650Z
UID:2213-1727253000-1727269200@rcchristianacademy.org
SUMMARY:School Picture Day 8:30 a.m. – 1:00 p.m.
DESCRIPTION:
URL:https://rcchristianacademy.org/event/school-picture-day-830-a-m-100-p-m/
END:VEVENT
END:VCALENDAR