BEGIN:VCALENDAR
VERSION:2.0
PRODID:-//RCC Academy - ECPv5.6.0//NONSGML v1.0//EN
CALSCALE:GREGORIAN
METHOD:PUBLISH
X-WR-CALNAME:RCC Academy
X-ORIGINAL-URL:https://rcchristianacademy.org
X-WR-CALDESC:Events for RCC Academy
BEGIN:VTIMEZONE
TZID:UTC
BEGIN:STANDARD
TZOFFSETFROM:+0000
TZOFFSETTO:+0000
TZNAME:UTC
DTSTART:20240101T000000
END:STANDARD
END:VTIMEZONE
BEGIN:VEVENT
DTSTART;TZID=UTC:20240913T080000
DTEND;TZID=UTC:20240913T170000
DTSTAMP:20260421T135443
CREATED:20240722T154819Z
LAST-MODIFIED:20240722T154819Z
UID:2217-1726214400-1726246800@rcchristianacademy.org
SUMMARY:Paw Patrol Character Assembly: K3-K5
DESCRIPTION:
URL:https://rcchristianacademy.org/event/paw-patrol-character-assembly-k3-k5/
END:VEVENT
END:VCALENDAR