BEGIN:VCALENDAR
VERSION:2.0
PRODID:-//RCC Academy - ECPv5.6.0//NONSGML v1.0//EN
CALSCALE:GREGORIAN
METHOD:PUBLISH
X-WR-CALNAME:RCC Academy
X-ORIGINAL-URL:https://rcchristianacademy.org
X-WR-CALDESC:Events for RCC Academy
BEGIN:VTIMEZONE
TZID:UTC
BEGIN:STANDARD
TZOFFSETFROM:+0000
TZOFFSETTO:+0000
TZNAME:UTC
DTSTART:20240101T000000
END:STANDARD
END:VTIMEZONE
BEGIN:VEVENT
DTSTART;VALUE=DATE:20240902
DTEND;VALUE=DATE:20240903
DTSTAMP:20260421T125551
CREATED:20240722T153548Z
LAST-MODIFIED:20240722T153548Z
UID:2211-1725235200-1725321599@rcchristianacademy.org
SUMMARY:LABOR DAY – NO SCHOOL
DESCRIPTION:
URL:https://rcchristianacademy.org/event/labor-day-no-school-3/
END:VEVENT
END:VCALENDAR