BEGIN:VCALENDAR
VERSION:2.0
PRODID:-//RCC Academy - ECPv5.6.0//NONSGML v1.0//EN
CALSCALE:GREGORIAN
METHOD:PUBLISH
X-WR-CALNAME:RCC Academy
X-ORIGINAL-URL:https://rcchristianacademy.org
X-WR-CALDESC:Events for RCC Academy
BEGIN:VTIMEZONE
TZID:UTC
BEGIN:STANDARD
TZOFFSETFROM:+0000
TZOFFSETTO:+0000
TZNAME:UTC
DTSTART:20240101T000000
END:STANDARD
END:VTIMEZONE
BEGIN:VEVENT
DTSTART;TZID=UTC:20240826T081500
DTEND;TZID=UTC:20240826T170000
DTSTAMP:20260421T125116
CREATED:20240722T153435Z
LAST-MODIFIED:20240722T153435Z
UID:2209-1724660100-1724691600@rcchristianacademy.org
SUMMARY:FIRST DAY OF SCHOOL – 8:15 a.m.
DESCRIPTION:
URL:https://rcchristianacademy.org/event/first-day-of-school-815-a-m/
END:VEVENT
END:VCALENDAR