BEGIN:VCALENDAR
VERSION:2.0
PRODID:-//RCC Academy - ECPv5.6.0//NONSGML v1.0//EN
CALSCALE:GREGORIAN
METHOD:PUBLISH
X-WR-CALNAME:RCC Academy
X-ORIGINAL-URL:https://rcchristianacademy.org
X-WR-CALDESC:Events for RCC Academy
BEGIN:VTIMEZONE
TZID:UTC
BEGIN:STANDARD
TZOFFSETFROM:+0000
TZOFFSETTO:+0000
TZNAME:UTC
DTSTART:20240101T000000
END:STANDARD
END:VTIMEZONE
BEGIN:VEVENT
DTSTART;VALUE=DATE:20240812
DTEND;VALUE=DATE:20240823
DTSTAMP:20260421T153407
CREATED:20240722T153330Z
LAST-MODIFIED:20240722T153330Z
UID:2205-1723420800-1724371199@rcchristianacademy.org
SUMMARY:Professional Development
DESCRIPTION:Faculty/Staff Picture Day
URL:https://rcchristianacademy.org/event/professional-development-2/
END:VEVENT
END:VCALENDAR