BEGIN:VCALENDAR
VERSION:2.0
PRODID:-//RCC Academy - ECPv5.6.0//NONSGML v1.0//EN
CALSCALE:GREGORIAN
METHOD:PUBLISH
X-WR-CALNAME:RCC Academy
X-ORIGINAL-URL:https://rcchristianacademy.org
X-WR-CALDESC:Events for RCC Academy
BEGIN:VTIMEZONE
TZID:UTC
BEGIN:STANDARD
TZOFFSETFROM:+0000
TZOFFSETTO:+0000
TZNAME:UTC
DTSTART:20240101T000000
END:STANDARD
END:VTIMEZONE
BEGIN:VEVENT
DTSTART;VALUE=DATE:20240617
DTEND;VALUE=DATE:20240803
DTSTAMP:20260421T171548
CREATED:20230727T204144Z
LAST-MODIFIED:20240404T194400Z
UID:2068-1718582400-1722643199@rcchristianacademy.org
SUMMARY:SUMMER ENRICHMENT CAMP
DESCRIPTION:
URL:https://rcchristianacademy.org/event/summer-enrichment-camp-3/
END:VEVENT
END:VCALENDAR