BEGIN:VCALENDAR
VERSION:2.0
PRODID:-//RCC Academy - ECPv5.6.0//NONSGML v1.0//EN
CALSCALE:GREGORIAN
METHOD:PUBLISH
X-WR-CALNAME:RCC Academy
X-ORIGINAL-URL:https://rcchristianacademy.org
X-WR-CALDESC:Events for RCC Academy
BEGIN:VTIMEZONE
TZID:UTC
BEGIN:STANDARD
TZOFFSETFROM:+0000
TZOFFSETTO:+0000
TZNAME:UTC
DTSTART:20240101T000000
END:STANDARD
END:VTIMEZONE
BEGIN:VEVENT
DTSTART;VALUE=DATE:20240523
DTEND;VALUE=DATE:20240524
DTSTAMP:20260421T211340
CREATED:20230728T202023Z
LAST-MODIFIED:20240515T171520Z
UID:2081-1716422400-1716508799@rcchristianacademy.org
SUMMARY:Awards Ceremonies
DESCRIPTION:Grades 1-7 at 10:00 a.m.
URL:https://rcchristianacademy.org/event/awards-ceremonies-2/
END:VEVENT
END:VCALENDAR