BEGIN:VCALENDAR
VERSION:2.0
PRODID:-//RCC Academy - ECPv5.6.0//NONSGML v1.0//EN
CALSCALE:GREGORIAN
METHOD:PUBLISH
X-WR-CALNAME:RCC Academy
X-ORIGINAL-URL:https://rcchristianacademy.org
X-WR-CALDESC:Events for RCC Academy
BEGIN:VTIMEZONE
TZID:UTC
BEGIN:STANDARD
TZOFFSETFROM:+0000
TZOFFSETTO:+0000
TZNAME:UTC
DTSTART:20240101T000000
END:STANDARD
END:VTIMEZONE
BEGIN:VEVENT
DTSTART;VALUE=DATE:20240522
DTEND;VALUE=DATE:20240523
DTSTAMP:20260421T211342
CREATED:20230727T203829Z
LAST-MODIFIED:20230727T203839Z
UID:2062-1716336000-1716422399@rcchristianacademy.org
SUMMARY:K3 & K4
DESCRIPTION:11:00 a.m
URL:https://rcchristianacademy.org/event/k3-k4/
END:VEVENT
END:VCALENDAR