BEGIN:VCALENDAR
VERSION:2.0
PRODID:-//RCC Academy - ECPv5.6.0//NONSGML v1.0//EN
CALSCALE:GREGORIAN
METHOD:PUBLISH
X-WR-CALNAME:RCC Academy
X-ORIGINAL-URL:https://rcchristianacademy.org
X-WR-CALDESC:Events for RCC Academy
BEGIN:VTIMEZONE
TZID:UTC
BEGIN:STANDARD
TZOFFSETFROM:+0000
TZOFFSETTO:+0000
TZNAME:UTC
DTSTART:20240101T000000
END:STANDARD
END:VTIMEZONE
BEGIN:VEVENT
DTSTART;VALUE=DATE:20240521
DTEND;VALUE=DATE:20240522
DTSTAMP:20260421T211340
CREATED:20230727T203801Z
LAST-MODIFIED:20230727T203801Z
UID:2060-1716249600-1716335999@rcchristianacademy.org
SUMMARY:K5 Graduation & Awards
DESCRIPTION:11:00 a.m.
URL:https://rcchristianacademy.org/event/k5-graduation-awards-2/
END:VEVENT
END:VCALENDAR