BEGIN:VCALENDAR
VERSION:2.0
PRODID:-//RCC Academy - ECPv5.6.0//NONSGML v1.0//EN
CALSCALE:GREGORIAN
METHOD:PUBLISH
X-WR-CALNAME:RCC Academy
X-ORIGINAL-URL:https://rcchristianacademy.org
X-WR-CALDESC:Events for RCC Academy
BEGIN:VTIMEZONE
TZID:UTC
BEGIN:STANDARD
TZOFFSETFROM:+0000
TZOFFSETTO:+0000
TZNAME:UTC
DTSTART:20240101T000000
END:STANDARD
END:VTIMEZONE
BEGIN:VEVENT
DTSTART;VALUE=DATE:20240517
DTEND;VALUE=DATE:20240518
DTSTAMP:20260421T211341
CREATED:20240130T153043Z
LAST-MODIFIED:20240130T153230Z
UID:2093-1715904000-1715990399@rcchristianacademy.org
SUMMARY:Senior High School Graduation: 10:00 a.m.
DESCRIPTION:
URL:https://rcchristianacademy.org/event/senior-high-school-graduation-1000-a-m-3/
END:VEVENT
END:VCALENDAR