BEGIN:VCALENDAR
VERSION:2.0
PRODID:-//RCC Academy - ECPv5.6.0//NONSGML v1.0//EN
CALSCALE:GREGORIAN
METHOD:PUBLISH
X-WR-CALNAME:RCC Academy
X-ORIGINAL-URL:https://rcchristianacademy.org
X-WR-CALDESC:Events for RCC Academy
BEGIN:VTIMEZONE
TZID:UTC
BEGIN:STANDARD
TZOFFSETFROM:+0000
TZOFFSETTO:+0000
TZNAME:UTC
DTSTART:20240101T000000
END:STANDARD
END:VTIMEZONE
BEGIN:VEVENT
DTSTART;TZID=UTC:20240314T090000
DTEND;TZID=UTC:20240314T100000
DTSTAMP:20260421T120350
CREATED:20230727T202119Z
LAST-MODIFIED:20230727T202810Z
UID:2029-1710406800-1710410400@rcchristianacademy.org
SUMMARY:Elementary Spelling Bee: 1st – 6th Grades
DESCRIPTION:
URL:https://rcchristianacademy.org/event/elementary-spelling-bee-1st-6th-grades/
END:VEVENT
END:VCALENDAR