BEGIN:VCALENDAR
VERSION:2.0
PRODID:-//RCC Academy - ECPv5.6.0//NONSGML v1.0//EN
CALSCALE:GREGORIAN
METHOD:PUBLISH
X-WR-CALNAME:RCC Academy
X-ORIGINAL-URL:https://rcchristianacademy.org
X-WR-CALDESC:Events for RCC Academy
BEGIN:VTIMEZONE
TZID:UTC
BEGIN:STANDARD
TZOFFSETFROM:+0000
TZOFFSETTO:+0000
TZNAME:UTC
DTSTART:20240101T000000
END:STANDARD
END:VTIMEZONE
BEGIN:VEVENT
DTSTART;VALUE=DATE:20240304
DTEND;VALUE=DATE:20240309
DTSTAMP:20260421T153521
CREATED:20230727T201855Z
LAST-MODIFIED:20230727T201949Z
UID:2026-1709510400-1709942399@rcchristianacademy.org
SUMMARY:Dr. Seuss Week: K5-6th Grades | Disciples Week: 7th -12th Grades (Class Presentations)
DESCRIPTION:
URL:https://rcchristianacademy.org/event/dr-seuss-week-k5-6th-grades-2/
END:VEVENT
END:VCALENDAR