BEGIN:VCALENDAR
VERSION:2.0
PRODID:-//RCC Academy - ECPv5.6.0//NONSGML v1.0//EN
CALSCALE:GREGORIAN
METHOD:PUBLISH
X-WR-CALNAME:RCC Academy
X-ORIGINAL-URL:https://rcchristianacademy.org
X-WR-CALDESC:Events for RCC Academy
BEGIN:VTIMEZONE
TZID:UTC
BEGIN:STANDARD
TZOFFSETFROM:+0000
TZOFFSETTO:+0000
TZNAME:UTC
DTSTART:20240101T000000
END:STANDARD
END:VTIMEZONE
BEGIN:VEVENT
DTSTART;VALUE=DATE:20240207
DTEND;VALUE=DATE:20240210
DTSTAMP:20260421T120047
CREATED:20230727T201403Z
LAST-MODIFIED:20230727T201403Z
UID:2016-1707264000-1707523199@rcchristianacademy.org
SUMMARY:Black History Oratorical Contests
DESCRIPTION:9:00 a.m.
URL:https://rcchristianacademy.org/event/black-history-oratorical-contests/
END:VEVENT
END:VCALENDAR