BEGIN:VCALENDAR
VERSION:2.0
PRODID:-//RCC Academy - ECPv5.6.0//NONSGML v1.0//EN
CALSCALE:GREGORIAN
METHOD:PUBLISH
X-WR-CALNAME:RCC Academy
X-ORIGINAL-URL:https://rcchristianacademy.org
X-WR-CALDESC:Events for RCC Academy
BEGIN:VTIMEZONE
TZID:UTC
BEGIN:STANDARD
TZOFFSETFROM:+0000
TZOFFSETTO:+0000
TZNAME:UTC
DTSTART:20230101T000000
END:STANDARD
END:VTIMEZONE
BEGIN:VEVENT
DTSTART;VALUE=DATE:20231218
DTEND;VALUE=DATE:20231219
DTSTAMP:20260419T215715
CREATED:20230727T200703Z
LAST-MODIFIED:20231212T164414Z
UID:2000-1702857600-1702943999@rcchristianacademy.org
SUMMARY:Christmas Performing Arts Production
DESCRIPTION:
URL:https://rcchristianacademy.org/event/christmas-performing-arts-production-2/
END:VEVENT
BEGIN:VEVENT
DTSTART;VALUE=DATE:20231218
DTEND;VALUE=DATE:20231219
DTSTAMP:20260419T215715
CREATED:20230727T200757Z
LAST-MODIFIED:20230727T200757Z
UID:2002-1702857600-1702943999@rcchristianacademy.org
SUMMARY:Pancakes/Pictures with Santa – “Eagles Nest”
DESCRIPTION:
URL:https://rcchristianacademy.org/event/pancakes-pictures-with-santa-eagles-nest-2/
END:VEVENT
END:VCALENDAR