BEGIN:VCALENDAR
VERSION:2.0
PRODID:-//RCC Academy - ECPv5.6.0//NONSGML v1.0//EN
CALSCALE:GREGORIAN
METHOD:PUBLISH
X-WR-CALNAME:RCC Academy
X-ORIGINAL-URL:https://rcchristianacademy.org
X-WR-CALDESC:Events for RCC Academy
BEGIN:VTIMEZONE
TZID:UTC
BEGIN:STANDARD
TZOFFSETFROM:+0000
TZOFFSETTO:+0000
TZNAME:UTC
DTSTART:20220101T000000
END:STANDARD
END:VTIMEZONE
BEGIN:VEVENT
DTSTART;VALUE=DATE:20220617
DTEND;VALUE=DATE:20220618
DTSTAMP:20260421T102117
CREATED:20210928T161145Z
LAST-MODIFIED:20210928T162044Z
UID:1611-1655424000-1655510399@rcchristianacademy.org
SUMMARY:Awards Ceremony for 7th -11th Grades: 9:00 a.m. LAST DAY OF SCHOOL- Free Dress Down Day HALF DAY - DISMISSAL AT 12:30 P.M.
DESCRIPTION:Awards Ceremony for 7th -11th Grades: 9:00 a.m. \nLAST DAY OF SCHOOL- Free Dress Down Day \nHALF DAY – DISMISSAL AT 12:30 P.M. \nDue to Covid\, a lot of activities are excluded from the School Calendar this year that included Parent\, Family and Friends interaction with the students.
URL:https://rcchristianacademy.org/event/awards-ceremony-for-7th-11th-grades-900-a-m-last-day-of-school-free-dress-down-day-half-day-dismissal-at-1230-p-m/
END:VEVENT
END:VCALENDAR