BEGIN:VCALENDAR
VERSION:2.0
PRODID:-//RCC Academy - ECPv5.6.0//NONSGML v1.0//EN
CALSCALE:GREGORIAN
METHOD:PUBLISH
X-WR-CALNAME:RCC Academy
X-ORIGINAL-URL:https://rcchristianacademy.org
X-WR-CALDESC:Events for RCC Academy
BEGIN:VTIMEZONE
TZID:UTC
BEGIN:STANDARD
TZOFFSETFROM:+0000
TZOFFSETTO:+0000
TZNAME:UTC
DTSTART:20220101T000000
END:STANDARD
END:VTIMEZONE
BEGIN:VEVENT
DTSTART;VALUE=DATE:20220616
DTEND;VALUE=DATE:20220617
DTSTAMP:20260421T102116
CREATED:20210928T161122Z
LAST-MODIFIED:20210928T162054Z
UID:1609-1655337600-1655423999@rcchristianacademy.org
SUMMARY:Awards Ceremony for K3 & K4: 10:00 a.m. 1st & 2nd Grades: 1:00 p.m. 3rd - 5th Grades: 2:00 p.m.
DESCRIPTION:Awards Ceremony for K3 & K4: 10:00 a.m. \n1st & 2nd Grades: 1:00 p.m. \n3rd – 5th Grades: 2:00 p.m. \n  \nDue to Covid\, a lot of activities are excluded from the School Calendar this year that included Parent\, Family and Friends interaction with the students.
URL:https://rcchristianacademy.org/event/awards-ceremony-for-k3-k4-1000-a-m-1st-2nd-grades-100-p-m-3rd-5th-grades-200-p-m/
END:VEVENT
END:VCALENDAR