BEGIN:VCALENDAR
VERSION:2.0
PRODID:-//RCC Academy - ECPv5.6.0//NONSGML v1.0//EN
CALSCALE:GREGORIAN
METHOD:PUBLISH
X-WR-CALNAME:RCC Academy
X-ORIGINAL-URL:https://rcchristianacademy.org
X-WR-CALDESC:Events for RCC Academy
BEGIN:VTIMEZONE
TZID:UTC
BEGIN:STANDARD
TZOFFSETFROM:+0000
TZOFFSETTO:+0000
TZNAME:UTC
DTSTART:20220101T000000
END:STANDARD
END:VTIMEZONE
BEGIN:VEVENT
DTSTART;VALUE=DATE:20220530
DTEND;VALUE=DATE:20220531
DTSTAMP:20260421T102130
CREATED:20210928T160936Z
LAST-MODIFIED:20210928T160936Z
UID:1603-1653868800-1653955199@rcchristianacademy.org
SUMMARY:MEMORIAL DAY – NO SCHOOL
DESCRIPTION:
URL:https://rcchristianacademy.org/event/memorial-day-no-school/
END:VEVENT
END:VCALENDAR