BEGIN:VCALENDAR
VERSION:2.0
PRODID:-//RCC Academy - ECPv5.6.0//NONSGML v1.0//EN
CALSCALE:GREGORIAN
METHOD:PUBLISH
X-WR-CALNAME:RCC Academy
X-ORIGINAL-URL:https://rcchristianacademy.org
X-WR-CALDESC:Events for RCC Academy
BEGIN:VTIMEZONE
TZID:UTC
BEGIN:STANDARD
TZOFFSETFROM:+0000
TZOFFSETTO:+0000
TZNAME:UTC
DTSTART:20220101T000000
END:STANDARD
END:VTIMEZONE
BEGIN:VEVENT
DTSTART;VALUE=DATE:20220401
DTEND;VALUE=DATE:20220402
DTSTAMP:20260421T121303
CREATED:20210928T160626Z
LAST-MODIFIED:20210928T160626Z
UID:1595-1648771200-1648857599@rcchristianacademy.org
SUMMARY:End of 3rd Quarter
DESCRIPTION:
URL:https://rcchristianacademy.org/event/end-of-3rd-quarter/
END:VEVENT
END:VCALENDAR