BEGIN:VCALENDAR
VERSION:2.0
PRODID:-//RCC Academy - ECPv5.6.0//NONSGML v1.0//EN
CALSCALE:GREGORIAN
METHOD:PUBLISH
X-WR-CALNAME:RCC Academy
X-ORIGINAL-URL:https://rcchristianacademy.org
X-WR-CALDESC:Events for RCC Academy
BEGIN:VTIMEZONE
TZID:UTC
BEGIN:STANDARD
TZOFFSETFROM:+0000
TZOFFSETTO:+0000
TZNAME:UTC
DTSTART:20220101T000000
END:STANDARD
END:VTIMEZONE
BEGIN:VEVENT
DTSTART;VALUE=DATE:20220301
DTEND;VALUE=DATE:20220305
DTSTAMP:20260421T153605
CREATED:20210928T160447Z
LAST-MODIFIED:20210928T162442Z
UID:1587-1646092800-1646438399@rcchristianacademy.org
SUMMARY:Dr. Seuss Week: K5-6th Grades Disciples Week: 7th – 12th Grades
DESCRIPTION:Dr. Seuss Week: K5-6th Grades \nDisciples Week: 7th – 12th Grades \n  \nDue to Covid\, a lot of activities are excluded from the School Calendar this year that included Parent\, Family and Friends interaction with the students.
URL:https://rcchristianacademy.org/event/dr-seuss-week-k5-6th-grades-disciples-week-7th-12th-grades/
END:VEVENT
BEGIN:VEVENT
DTSTART;VALUE=DATE:20220302
DTEND;VALUE=DATE:20220303
DTSTAMP:20260421T153605
CREATED:20210928T160507Z
LAST-MODIFIED:20210928T162407Z
UID:1589-1646179200-1646265599@rcchristianacademy.org
SUMMARY:National Honor Society Induction Ceremony
DESCRIPTION:Due to Covid\, a lot of activities are excluded from the School Calendar this year that included Parent\, Family and Friends interaction with the students.
URL:https://rcchristianacademy.org/event/national-honor-society-induction-ceremony/
END:VEVENT
END:VCALENDAR