BEGIN:VCALENDAR
VERSION:2.0
PRODID:-//RCC Academy - ECPv5.6.0//NONSGML v1.0//EN
CALSCALE:GREGORIAN
METHOD:PUBLISH
X-WR-CALNAME:RCC Academy
X-ORIGINAL-URL:https://rcchristianacademy.org
X-WR-CALDESC:Events for RCC Academy
BEGIN:VTIMEZONE
TZID:UTC
BEGIN:STANDARD
TZOFFSETFROM:+0000
TZOFFSETTO:+0000
TZNAME:UTC
DTSTART:20220101T000000
END:STANDARD
END:VTIMEZONE
BEGIN:VEVENT
DTSTART;VALUE=DATE:20220104
DTEND;VALUE=DATE:20220201
DTSTAMP:20260421T185840
CREATED:20220106T160302Z
LAST-MODIFIED:20220106T160308Z
UID:1652-1641254400-1643673599@rcchristianacademy.org
SUMMARY:School resumes virtual for all students through January 31\, 2022
DESCRIPTION:
URL:https://rcchristianacademy.org/event/school-resumes-virtual-for-all-students-through-january-31-2022/
END:VEVENT
END:VCALENDAR