BEGIN:VCALENDAR
VERSION:2.0
PRODID:-//RCC Academy - ECPv5.6.0//NONSGML v1.0//EN
CALSCALE:GREGORIAN
METHOD:PUBLISH
X-WR-CALNAME:RCC Academy
X-ORIGINAL-URL:https://rcchristianacademy.org
X-WR-CALDESC:Events for RCC Academy
BEGIN:VTIMEZONE
TZID:UTC
BEGIN:STANDARD
TZOFFSETFROM:+0000
TZOFFSETTO:+0000
TZNAME:UTC
DTSTART:20210101T000000
END:STANDARD
END:VTIMEZONE
BEGIN:VEVENT
DTSTART;VALUE=DATE:20211124
DTEND;VALUE=DATE:20211127
DTSTAMP:20260421T223527
CREATED:20210928T155934Z
LAST-MODIFIED:20210928T155934Z
UID:1565-1637712000-1637971199@rcchristianacademy.org
SUMMARY:Thanksgiving Break – NO SCHOOL
DESCRIPTION:
URL:https://rcchristianacademy.org/event/thanksgiving-break-no-school/
END:VEVENT
END:VCALENDAR