BEGIN:VCALENDAR
VERSION:2.0
PRODID:-//RCC Academy - ECPv5.6.0//NONSGML v1.0//EN
CALSCALE:GREGORIAN
METHOD:PUBLISH
X-WR-CALNAME:RCC Academy
X-ORIGINAL-URL:https://rcchristianacademy.org
X-WR-CALDESC:Events for RCC Academy
BEGIN:VTIMEZONE
TZID:UTC
BEGIN:STANDARD
TZOFFSETFROM:+0000
TZOFFSETTO:+0000
TZNAME:UTC
DTSTART:20210101T000000
END:STANDARD
END:VTIMEZONE
BEGIN:VEVENT
DTSTART;VALUE=DATE:20211117
DTEND;VALUE=DATE:20211118
DTSTAMP:20260421T223446
CREATED:20211019T205148Z
LAST-MODIFIED:20211019T205148Z
UID:1640-1637107200-1637193599@rcchristianacademy.org
SUMMARY:Athletic Department/Team Picture Day
DESCRIPTION:
URL:https://rcchristianacademy.org/event/athletic-department-team-picture-day/
END:VEVENT
END:VCALENDAR