BEGIN:VCALENDAR
VERSION:2.0
PRODID:-//RCC Academy - ECPv5.6.0//NONSGML v1.0//EN
CALSCALE:GREGORIAN
METHOD:PUBLISH
X-WR-CALNAME:RCC Academy
X-ORIGINAL-URL:https://rcchristianacademy.org
X-WR-CALDESC:Events for RCC Academy
BEGIN:VTIMEZONE
TZID:UTC
BEGIN:STANDARD
TZOFFSETFROM:+0000
TZOFFSETTO:+0000
TZNAME:UTC
DTSTART:20210101T000000
END:STANDARD
END:VTIMEZONE
BEGIN:VEVENT
DTSTART;VALUE=DATE:20211112
DTEND;VALUE=DATE:20211113
DTSTAMP:20260421T223526
CREATED:20210928T155827Z
LAST-MODIFIED:20210928T155827Z
UID:1561-1636675200-1636761599@rcchristianacademy.org
SUMMARY:Parent/Teacher Conferences  NO SCHOOL
DESCRIPTION:Parent/Teacher Conferences \nNO SCHOOL \nSenior Class – Cap & Gown Picture Day \n9:00 a.m. – 2:00 p.m.
URL:https://rcchristianacademy.org/event/parent-teacher-conferences-no-school/
END:VEVENT
END:VCALENDAR