BEGIN:VCALENDAR
VERSION:2.0
PRODID:-//RCC Academy - ECPv5.6.0//NONSGML v1.0//EN
CALSCALE:GREGORIAN
METHOD:PUBLISH
X-WR-CALNAME:RCC Academy
X-ORIGINAL-URL:https://rcchristianacademy.org
X-WR-CALDESC:Events for RCC Academy
BEGIN:VTIMEZONE
TZID:UTC
BEGIN:STANDARD
TZOFFSETFROM:+0000
TZOFFSETTO:+0000
TZNAME:UTC
DTSTART:20210101T000000
END:STANDARD
END:VTIMEZONE
BEGIN:VEVENT
DTSTART;TZID=UTC:20211030T093000
DTEND;TZID=UTC:20211030T113000
DTSTAMP:20260422T002642
CREATED:20211019T205022Z
LAST-MODIFIED:20211019T205022Z
UID:1638-1635586200-1635593400@rcchristianacademy.org
SUMMARY:9:30am - 11:30am - Picture Day/Virtual Students Only
DESCRIPTION:
URL:https://rcchristianacademy.org/event/930am-1130am-picture-day-virtual-students-only/
END:VEVENT
END:VCALENDAR