BEGIN:VCALENDAR
VERSION:2.0
PRODID:-//RCC Academy - ECPv5.6.0//NONSGML v1.0//EN
CALSCALE:GREGORIAN
METHOD:PUBLISH
X-WR-CALNAME:RCC Academy
X-ORIGINAL-URL:https://rcchristianacademy.org
X-WR-CALDESC:Events for RCC Academy
BEGIN:VTIMEZONE
TZID:UTC
BEGIN:STANDARD
TZOFFSETFROM:+0000
TZOFFSETTO:+0000
TZNAME:UTC
DTSTART:20210101T000000
END:STANDARD
END:VTIMEZONE
BEGIN:VEVENT
DTSTART;VALUE=DATE:20211013
DTEND;VALUE=DATE:20211014
DTSTAMP:20260422T002658
CREATED:20210928T155458Z
LAST-MODIFIED:20210928T155458Z
UID:1551-1634083200-1634169599@rcchristianacademy.org
SUMMARY:PSAT Test Day
DESCRIPTION:Due to Covid\, a lot of activities are excluded from the School Calendar this year that included Parent\, Family and Friends interaction with the students.
URL:https://rcchristianacademy.org/event/psat-test-day/
END:VEVENT
END:VCALENDAR