BEGIN:VCALENDAR
VERSION:2.0
PRODID:-//RCC Academy - ECPv5.6.0//NONSGML v1.0//EN
CALSCALE:GREGORIAN
METHOD:PUBLISH
X-WR-CALNAME:RCC Academy
X-ORIGINAL-URL:https://rcchristianacademy.org
X-WR-CALDESC:Events for RCC Academy
BEGIN:VTIMEZONE
TZID:UTC
BEGIN:STANDARD
TZOFFSETFROM:+0000
TZOFFSETTO:+0000
TZNAME:UTC
DTSTART:20210101T000000
END:STANDARD
END:VTIMEZONE
BEGIN:VEVENT
DTSTART;VALUE=DATE:20210909
DTEND;VALUE=DATE:20210910
DTSTAMP:20260422T023536
CREATED:20210806T160605Z
LAST-MODIFIED:20210901T163733Z
UID:1526-1631145600-1631231999@rcchristianacademy.org
SUMMARY:Parent Orientation via Zoom
DESCRIPTION:
URL:https://rcchristianacademy.org/event/parent-orientation-via-zoom/
END:VEVENT
BEGIN:VEVENT
DTSTART;VALUE=DATE:20210909
DTEND;VALUE=DATE:20210910
DTSTAMP:20260422T023536
CREATED:20210928T154331Z
LAST-MODIFIED:20210928T154331Z
UID:1543-1631145600-1631231999@rcchristianacademy.org
SUMMARY:Parent/Teacher Orientation Video
DESCRIPTION:
URL:https://rcchristianacademy.org/event/parent-teacher-orientation-video/
END:VEVENT
END:VCALENDAR