BEGIN:VCALENDAR
VERSION:2.0
PRODID:-//RCC Academy - ECPv5.6.0//NONSGML v1.0//EN
CALSCALE:GREGORIAN
METHOD:PUBLISH
X-WR-CALNAME:RCC Academy
X-ORIGINAL-URL:https://rcchristianacademy.org
X-WR-CALDESC:Events for RCC Academy
BEGIN:VTIMEZONE
TZID:America/New_York
BEGIN:DAYLIGHT
TZOFFSETFROM:-0500
TZOFFSETTO:-0400
TZNAME:EDT
DTSTART:20210314T070000
END:DAYLIGHT
BEGIN:STANDARD
TZOFFSETFROM:-0400
TZOFFSETTO:-0500
TZNAME:EST
DTSTART:20211107T060000
END:STANDARD
END:VTIMEZONE
BEGIN:VEVENT
DTSTART;TZID=America/New_York:20210521T100000
DTEND;TZID=America/New_York:20210521T123000
DTSTAMP:20260422T095808
CREATED:20210504T150902Z
LAST-MODIFIED:20210928T162633Z
UID:1465-1621591200-1621600200@rcchristianacademy.org
SUMMARY:Awards Ceremony for 7th - 11th Grades
DESCRIPTION:Awards Ceremony for 7th – 11th Grades 10:00 a.m. \nLAST DAY OF SCHOOL\nHALF DAY – DISMISSAL AT 12:30 P.M. \n\n\n\nFINAL REPORT CARDS MAILED \nDue to Covid\, a lot of activities are excluded from the School Calendar this year that included Parent\, Family and Friends interaction with the students.
URL:https://rcchristianacademy.org/event/awards-ceremony-for-7th-11th-grades/
END:VEVENT
END:VCALENDAR