BEGIN:VCALENDAR
VERSION:2.0
PRODID:-//RCC Academy - ECPv5.6.0//NONSGML v1.0//EN
CALSCALE:GREGORIAN
METHOD:PUBLISH
X-WR-CALNAME:RCC Academy
X-ORIGINAL-URL:https://rcchristianacademy.org
X-WR-CALDESC:Events for RCC Academy
BEGIN:VTIMEZONE
TZID:America/New_York
BEGIN:DAYLIGHT
TZOFFSETFROM:-0500
TZOFFSETTO:-0400
TZNAME:EDT
DTSTART:20210314T070000
END:DAYLIGHT
BEGIN:STANDARD
TZOFFSETFROM:-0400
TZOFFSETTO:-0500
TZNAME:EST
DTSTART:20211107T060000
END:STANDARD
END:VTIMEZONE
BEGIN:VEVENT
DTSTART;TZID=America/New_York:20210520T090000
DTEND;TZID=America/New_York:20210520T120000
DTSTAMP:20260422T095740
CREATED:20210504T150325Z
LAST-MODIFIED:20210928T162646Z
UID:1463-1621501200-1621512000@rcchristianacademy.org
SUMMARY:MS Promotion Ceremony & Awards
DESCRIPTION:MS Promotion Ceremony & Awards 9:00 a.m.\nK3 & K4 – 10:00 a.m.\n1st Grade – 10:30 a.m.\n2nd & 3rd Grades – 11:00 a.m.\n4th & 5th Grades – 11:30 a.m.\n6th Grade Promotion Ceremony-12:00 p.m. \n\nDue to Covid\, a lot of activities are excluded from the School Calendar this year that included Parent\, Family and Friends interaction with the students.
URL:https://rcchristianacademy.org/event/ms-promotion-ceremony-awards/
END:VEVENT
END:VCALENDAR