BEGIN:VCALENDAR
VERSION:2.0
PRODID:-//RCC Academy - ECPv5.6.0//NONSGML v1.0//EN
CALSCALE:GREGORIAN
METHOD:PUBLISH
X-WR-CALNAME:RCC Academy
X-ORIGINAL-URL:http://rcchristianacademy.org
X-WR-CALDESC:Events for RCC Academy
BEGIN:VTIMEZONE
TZID:UTC
BEGIN:STANDARD
TZOFFSETFROM:+0000
TZOFFSETTO:+0000
TZNAME:UTC
DTSTART:20250101T000000
END:STANDARD
END:VTIMEZONE
BEGIN:VEVENT
DTSTART;VALUE=DATE:20251219
DTEND;VALUE=DATE:20251220
DTSTAMP:20260419T141744
CREATED:20250826T123133Z
LAST-MODIFIED:20250826T123701Z
UID:2458-1766102400-1766188799@rcchristianacademy.org
SUMMARY:Pancakes/Pictures with Santa – “Eagles Nest”
DESCRIPTION:Pancakes/Pictures with Santa – “Eagles Nest”
URL:http://rcchristianacademy.org/event/pancakes-pictures-with-santa-eagles-nest-4/
END:VEVENT
END:VCALENDAR