BEGIN:VCALENDAR
VERSION:2.0
PRODID:-//RCC Academy - ECPv5.6.0//NONSGML v1.0//EN
CALSCALE:GREGORIAN
METHOD:PUBLISH
X-WR-CALNAME:RCC Academy
X-ORIGINAL-URL:http://rcchristianacademy.org
X-WR-CALDESC:Events for RCC Academy
BEGIN:VTIMEZONE
TZID:UTC
BEGIN:STANDARD
TZOFFSETFROM:+0000
TZOFFSETTO:+0000
TZNAME:UTC
DTSTART:20250101T000000
END:STANDARD
END:VTIMEZONE
BEGIN:VEVENT
DTSTART;TZID=UTC:20251218T190000
DTEND;TZID=UTC:20251218T190000
DTSTAMP:20260419T155426
CREATED:20250826T122832Z
LAST-MODIFIED:20251212T210139Z
UID:2456-1766084400-1766084400@rcchristianacademy.org
SUMMARY:Christmas Performing Arts Production
DESCRIPTION:Christmas Performing Arts Production
URL:http://rcchristianacademy.org/event/christmas-performing-arts-production-4/
END:VEVENT
END:VCALENDAR